BEGIN:VCALENDAR
VERSION:2.0
PRODID:-//Shifa Clinic - South Carolina - ECPv6.15.18//NONSGML v1.0//EN
CALSCALE:GREGORIAN
METHOD:PUBLISH
X-ORIGINAL-URL:https://www.icnarelief.org/shifaclinics
X-WR-CALDESC:Events for Shifa Clinic - South Carolina
REFRESH-INTERVAL;VALUE=DURATION:PT1H
X-Robots-Tag:noindex
X-PUBLISHED-TTL:PT1H
BEGIN:VTIMEZONE
TZID:UTC
BEGIN:STANDARD
TZOFFSETFROM:+0000
TZOFFSETTO:+0000
TZNAME:UTC
DTSTART:20240101T000000
END:STANDARD
END:VTIMEZONE
BEGIN:VEVENT
DTSTART;TZID=UTC:20250506T120000
DTEND;TZID=UTC:20250506T130000
DTSTAMP:20260422T214821
CREATED:20250117T134602Z
LAST-MODIFIED:20250421T160922Z
UID:22168-1746532800-1746536400@www.icnarelief.org
SUMMARY:Management of Maternal Diabetes Class
DESCRIPTION:*This course is now being taught remotely*\nTopics will Include:\n\n\nInformation about Gestational Diabetes\nCoping Methods\nHealthy Eating\nExercise Tips\nHow to Monitor and Reduce Risks\nProblem Solving\n\nHosted by Family Nurse Practitioner and Certified Diabetes Care and Education Specialist Maegan Manson from The Medical University of South Carolina. \n \nThis session meets the 1st Tuesday of each month.
URL:https://www.icnarelief.org/shifaclinics/event/moms-5-6-25/
LOCATION:Shifa Free Clinic\, 668 Marina Drive\, CHARLESTON\, SC\, 29492\, United States
CATEGORIES:Health Class,Nutrition Class
END:VEVENT
BEGIN:VEVENT
DTSTART;TZID=UTC:20250507T183000
DTEND;TZID=UTC:20250507T203000
DTSTAMP:20260422T214821
CREATED:20250117T144834Z
LAST-MODIFIED:20250321T201425Z
UID:22200-1746642600-1746649800@www.icnarelief.org
SUMMARY:Nutrición y Emociones
DESCRIPTION:Join Shifa and Circulos de Bienstar for our three-part workshop series in SPANISH designed to help you explore the relationship between emotions and eating habits\, with a specific focus on how emotional eating can influence conditions like prediabetes. \nThe workshop will be once a week on Wednesdays from 6:30 – 8:30\, for total of 3 weeks. \nThis series will provide practical tools and resources to improve both mental and physical health.
URL:https://www.icnarelief.org/shifaclinics/event/nutricion-y-emociones-c6-c1/
LOCATION:Berkeley Electric Cooprative\, 2 Springhall Dr\, Goose Creek\, South Carolina\, 29445
CATEGORIES:Health Class,Nutrition Class
END:VEVENT
BEGIN:VEVENT
DTSTART;TZID=UTC:20250513T120000
DTEND;TZID=UTC:20250513T130000
DTSTAMP:20260422T214821
CREATED:20250117T135155Z
LAST-MODIFIED:20250421T161030Z
UID:22176-1747137600-1747141200@www.icnarelief.org
SUMMARY:Maternal Diabetes Nutrition Class
DESCRIPTION:*This course is now being taught remotely*\nThis class will be focused on nutrition for women during pregnancy. You will learn about nutrition labels and how to prepare foods that will help with blood sugar control. We will use real life examples and help to create a plan that works for you. \n\n\n\n\n\n\n\n\n\n\n\n\n\nHosted by Betsy Johnson\, Registered Dietician and Certified Diabetes Care and Education Specialist. Betsy has been providing diabetes education and nutrition counseling for over 30 years. \n \nThis session meets the 2nd Tuesday of every month.
URL:https://www.icnarelief.org/shifaclinics/event/moms-5-13-25/
LOCATION:Shifa Free Clinic\, 668 Marina Drive\, CHARLESTON\, SC\, 29492\, United States
CATEGORIES:Health Class,Nutrition Class
END:VEVENT
BEGIN:VEVENT
DTSTART;TZID=UTC:20250514T183000
DTEND;TZID=UTC:20250514T203000
DTSTAMP:20260422T214821
CREATED:20250117T144949Z
LAST-MODIFIED:20250321T201516Z
UID:22202-1747247400-1747254600@www.icnarelief.org
SUMMARY:Nutrición y Emociones
DESCRIPTION:Join Shifa and Circulos de Bienstar for our three-part workshop series in SPANISH designed to help you explore the relationship between emotions and eating habits\, with a specific focus on how emotional eating can influence conditions like prediabetes. \nThe workshop will be once a week on Wednesdays from 6:30 – 8:30\, for total of 3 weeks. \nThis series will provide practical tools and resources to improve both mental and physical health.
URL:https://www.icnarelief.org/shifaclinics/event/nutricion-y-emociones-c6-s2/
LOCATION:Berkeley Electric Cooprative\, 2 Springhall Dr\, Goose Creek\, South Carolina\, 29445
CATEGORIES:Health Class,Nutrition Class
END:VEVENT
BEGIN:VEVENT
DTSTART;TZID=UTC:20250521T183000
DTEND;TZID=UTC:20250521T203000
DTSTAMP:20260422T214821
CREATED:20250117T145103Z
LAST-MODIFIED:20250321T201600Z
UID:22204-1747852200-1747859400@www.icnarelief.org
SUMMARY:Nutrición y Emociones
DESCRIPTION:Join Shifa and Circulos de Bienstar for our three-part workshop series in SPANISH designed to help you explore the relationship between emotions and eating habits\, with a specific focus on how emotional eating can influence conditions like prediabetes. \nThe workshop will be once a week on Wednesdays from 6:30 – 8:30\, for total of 3 weeks. \nThis series will provide practical tools and resources to improve both mental and physical health.
URL:https://www.icnarelief.org/shifaclinics/event/nutricion-y-emociones-c6-s3/
LOCATION:Berkeley Electric Cooprative\, 2 Springhall Dr\, Goose Creek\, South Carolina\, 29445
CATEGORIES:Health Class,Nutrition Class
END:VEVENT
END:VCALENDAR