BEGIN:VCALENDAR
VERSION:2.0
PRODID:-//Shifa Clinic - South Carolina - ECPv6.15.18//NONSGML v1.0//EN
CALSCALE:GREGORIAN
METHOD:PUBLISH
X-ORIGINAL-URL:https://www.icnarelief.org/shifaclinics
X-WR-CALDESC:Events for Shifa Clinic - South Carolina
REFRESH-INTERVAL;VALUE=DURATION:PT1H
X-Robots-Tag:noindex
X-PUBLISHED-TTL:PT1H
BEGIN:VTIMEZONE
TZID:UTC
BEGIN:STANDARD
TZOFFSETFROM:+0000
TZOFFSETTO:+0000
TZNAME:UTC
DTSTART:20240101T000000
END:STANDARD
END:VTIMEZONE
BEGIN:VEVENT
DTSTART;TZID=UTC:20250301T100000
DTEND;TZID=UTC:20250301T120000
DTSTAMP:20260422T184401
CREATED:20250117T143439Z
LAST-MODIFIED:20250117T143439Z
UID:22186-1740823200-1740830400@www.icnarelief.org
SUMMARY:Nutrición y Emociones
DESCRIPTION:Join Shifa and Circulos de Bienstar for our three-part workshop series in SPANISH designed to help you explore the relationship between emotions and eating habits\, with a specific focus on how emotional eating can influence conditions like prediabetes. \nThe workshop will be once a week on Saturday between 10-12PM\, for total of 3 weeks. \nThis series will provide practical tools and resources to improve both mental and physical health.
URL:https://www.icnarelief.org/shifaclinics/event/nutricion-y-emociones-c3-s3/
LOCATION:Shifa Free Clinic\, 668 Marina Drive\, CHARLESTON\, SC\, 29492\, United States
CATEGORIES:Health Class,Nutrition Class
END:VEVENT
BEGIN:VEVENT
DTSTART;TZID=UTC:20250304T090000
DTEND;TZID=UTC:20250304T110000
DTSTAMP:20260422T184401
CREATED:20250117T133938Z
LAST-MODIFIED:20250117T134305Z
UID:22164-1741078800-1741086000@www.icnarelief.org
SUMMARY:Management of Maternal Diabetes Class
DESCRIPTION:Topics will Include:\n\n\nInformation about Gestational Diabetes\nCoping Methods\nHealthy Eating\nExercise Tips\nHow to Monitor and Reduce Risks\nProblem Solving\n\nHosted by Family Nurse Practitioner and Certified Diabetes Care and Education Specialist Maegan Manson from The Medical University of South Carolina. \n \nThis session meets the 1st Tuesday of each month.
URL:https://www.icnarelief.org/shifaclinics/event/moms-3-4-25/
LOCATION:Shifa Free Clinic\, 668 Marina Drive\, CHARLESTON\, SC\, 29492\, United States
CATEGORIES:Health Class,Nutrition Class
END:VEVENT
BEGIN:VEVENT
DTSTART;TZID=UTC:20250311T090000
DTEND;TZID=UTC:20250311T110000
DTSTAMP:20260422T184401
CREATED:20250117T134913Z
LAST-MODIFIED:20250117T134913Z
UID:22172-1741683600-1741690800@www.icnarelief.org
SUMMARY:Maternal Diabetes Nutrition Class
DESCRIPTION:This class will be focused on nutrition for women during pregnancy. You will learn about nutrition labels and how to prepare foods that will help with blood sugar control. We will use real life examples and help to create a plan that works for you. \n\n\n\n\n\n\n\n\n\n\n\n\n\nHosted by Betsy Johnson\, Registered Dietician and Certified Diabetes Care and Education Specialist. Betsy has been providing diabetes education and nutrition counseling for over 30 years. \n \nThis session meets the 2nd Tuesday of every month.
URL:https://www.icnarelief.org/shifaclinics/event/moms-2-11-25/
LOCATION:Shifa Free Clinic\, 668 Marina Drive\, CHARLESTON\, SC\, 29492\, United States
CATEGORIES:Health Class,Nutrition Class
END:VEVENT
BEGIN:VEVENT
DTSTART;TZID=UTC:20250315T100000
DTEND;TZID=UTC:20250315T120000
DTSTAMP:20260422T184401
CREATED:20250117T143653Z
LAST-MODIFIED:20250117T143653Z
UID:22188-1742032800-1742040000@www.icnarelief.org
SUMMARY:Nutrición y Emociones
DESCRIPTION:Join Shifa and Circulos de Bienstar for our three-part workshop series in SPANISH designed to help you explore the relationship between emotions and eating habits\, with a specific focus on how emotional eating can influence conditions like prediabetes. \nThe workshop will be once a week on Saturday between 10-12PM\, for total of 3 weeks. \nThis series will provide practical tools and resources to improve both mental and physical health.
URL:https://www.icnarelief.org/shifaclinics/event/nutricion-y-emociones-c4-s1/
LOCATION:Shifa Free Clinic\, 668 Marina Drive\, CHARLESTON\, SC\, 29492\, United States
CATEGORIES:Health Class,Nutrition Class
END:VEVENT
BEGIN:VEVENT
DTSTART;TZID=UTC:20250322T100000
DTEND;TZID=UTC:20250322T120000
DTSTAMP:20260422T184401
CREATED:20250117T143837Z
LAST-MODIFIED:20250117T143929Z
UID:22190-1742637600-1742644800@www.icnarelief.org
SUMMARY:Nutrición y Emociones
DESCRIPTION:Join Shifa and Circulos de Bienstar for our three-part workshop series in SPANISH designed to help you explore the relationship between emotions and eating habits\, with a specific focus on how emotional eating can influence conditions like prediabetes. \nThe workshop will be once a week on Saturday between 10-12PM\, for total of 3 weeks. \nThis series will provide practical tools and resources to improve both mental and physical health.
URL:https://www.icnarelief.org/shifaclinics/event/nutricion-y-emociones-c4-s2/
LOCATION:Shifa Free Clinic\, 668 Marina Drive\, CHARLESTON\, SC\, 29492\, United States
CATEGORIES:Health Class,Nutrition Class
END:VEVENT
BEGIN:VEVENT
DTSTART;TZID=UTC:20250329T100000
DTEND;TZID=UTC:20250329T120000
DTSTAMP:20260422T184401
CREATED:20250117T144038Z
LAST-MODIFIED:20250117T144038Z
UID:22192-1743242400-1743249600@www.icnarelief.org
SUMMARY:Nutrición y Emociones
DESCRIPTION:Join Shifa and Circulos de Bienstar for our three-part workshop series in SPANISH designed to help you explore the relationship between emotions and eating habits\, with a specific focus on how emotional eating can influence conditions like prediabetes. \nThe workshop will be once a week on Saturday between 10-12PM\, for total of 3 weeks. \nThis series will provide practical tools and resources to improve both mental and physical health.
URL:https://www.icnarelief.org/shifaclinics/event/nutricion-y-emociones-c4-s4/
LOCATION:Shifa Free Clinic\, 668 Marina Drive\, CHARLESTON\, SC\, 29492\, United States
CATEGORIES:Health Class,Nutrition Class
END:VEVENT
END:VCALENDAR