BEGIN:VCALENDAR
VERSION:2.0
PRODID:-//Shifa Clinic - South Carolina - ECPv6.15.18//NONSGML v1.0//EN
CALSCALE:GREGORIAN
METHOD:PUBLISH
X-ORIGINAL-URL:https://www.icnarelief.org/shifaclinics
X-WR-CALDESC:Events for Shifa Clinic - South Carolina
REFRESH-INTERVAL;VALUE=DURATION:PT1H
X-Robots-Tag:noindex
X-PUBLISHED-TTL:PT1H
BEGIN:VTIMEZONE
TZID:UTC
BEGIN:STANDARD
TZOFFSETFROM:+0000
TZOFFSETTO:+0000
TZNAME:UTC
DTSTART:20240101T000000
END:STANDARD
END:VTIMEZONE
BEGIN:VEVENT
DTSTART;TZID=UTC:20250204T090000
DTEND;TZID=UTC:20250204T110000
DTSTAMP:20260422T201055
CREATED:20241120T144245Z
LAST-MODIFIED:20241202T204512Z
UID:22058-1738659600-1738666800@www.icnarelief.org
SUMMARY:Management of Maternal Diabetes Class
DESCRIPTION:Topics will Include:\n\n\nInformation about Gestational Diabetes\nCoping Methods\nHealthy Eating\nExercise Tips\nHow to Monitor and Reduce Risks\nProblem Solving\n\nHosted by Family Nurse Practitioner and Certified Diabetes Care and Education Specialist Maegan Manson from The Medical University of South Carolina. \n \nThis session meets the 1st Tuesday of each month.
URL:https://www.icnarelief.org/shifaclinics/event/moms-2-4-25/
LOCATION:Shifa Free Clinic\, 668 Marina Drive\, CHARLESTON\, SC\, 29492\, United States
CATEGORIES:Health Class
ATTACH;FMTTYPE=image/png:https://www.icnarelief.org/shifaclinics/wp-content/uploads/sites/2/2024/11/1-4.png
END:VEVENT
BEGIN:VEVENT
DTSTART;TZID=UTC:20250211T090000
DTEND;TZID=UTC:20250211T110000
DTSTAMP:20260422T201055
CREATED:20241120T144008Z
LAST-MODIFIED:20241202T204419Z
UID:22055-1739264400-1739271600@www.icnarelief.org
SUMMARY:Maternal Diabetes Nutrition Class
DESCRIPTION:This class will be focused on nutrition for women during pregnancy. You will learn about nutrition labels and how to prepare foods that will help with blood sugar control. We will use real life examples and help to create a plan that works for you. \n\n\n\n\n\n\n\n\n\n\n\n\n\nHosted by Betsy Johnson\, Registered Dietician and Certified Diabetes Care and Education Specialist. Betsy has been providing diabetes education and nutrition counseling for over 30 years. \n \nThis session meets the 2nd Tuesday of every month.
URL:https://www.icnarelief.org/shifaclinics/event/maternal-diabetes-nutrition-class-2-11-25/
LOCATION:Shifa Free Clinic\, 668 Marina Drive\, CHARLESTON\, SC\, 29492\, United States
CATEGORIES:Health Class
ATTACH;FMTTYPE=image/png:https://www.icnarelief.org/shifaclinics/wp-content/uploads/sites/2/2024/11/1-4.png
END:VEVENT
BEGIN:VEVENT
DTSTART;TZID=UTC:20250215T100000
DTEND;TZID=UTC:20250215T120000
DTSTAMP:20260422T201055
CREATED:20250117T135825Z
LAST-MODIFIED:20250117T135825Z
UID:22180-1739613600-1739620800@www.icnarelief.org
SUMMARY:Nutrición y Emociones
DESCRIPTION:Join Shifa and Circulos de Bienstar for our three-part workshop series in SPANISH designed to help you explore the relationship between emotions and eating habits\, with a specific focus on how emotional eating can influence conditions like prediabetes. \nThe workshop will be once a week on Saturday between 10-12PM\, for total of 3 weeks. \nThis series will provide practical tools and resources to improve both mental and physical health.
URL:https://www.icnarelief.org/shifaclinics/event/nutricion-y-emociones-c3-s1/
LOCATION:Shifa Free Clinic\, 668 Marina Drive\, CHARLESTON\, SC\, 29492\, United States
CATEGORIES:Health Class,Nutrition Class
END:VEVENT
BEGIN:VEVENT
DTSTART;TZID=UTC:20250215T110000
DTEND;TZID=UTC:20250215T130000
DTSTAMP:20260422T201055
CREATED:20250131T135754Z
LAST-MODIFIED:20250131T142945Z
UID:22266-1739617200-1739624400@www.icnarelief.org
SUMMARY:Healing with Love Health Fair and Food Giveaway
DESCRIPTION:We are celebrating “Healing with Love” Saturday February 15th! \nJoin us for a bag of fresh produce and health screenings including: \n\nBlood Pressure Screenings!\nDiabetes Testing and Education!\nAnemia Testing!\nBMI Screenings!\nVision and Glaucoma Testing!\nFlu Vaccinations!\n\n(3+ Years)\n\n\n\nThis event is in partnership with the Lowcountry Food Bank and the SC Department of Public Health
URL:https://www.icnarelief.org/shifaclinics/event/2-15-25-health-fair/
LOCATION:Shifa Free Clinic\, 668 Marina Drive\, CHARLESTON\, SC\, 29492\, United States
CATEGORIES:Health-Fair
END:VEVENT
BEGIN:VEVENT
DTSTART;TZID=UTC:20250220T090000
DTEND;TZID=UTC:20250220T103000
DTSTAMP:20260422T201055
CREATED:20250117T154033Z
LAST-MODIFIED:20250117T154033Z
UID:22206-1740042000-1740047400@www.icnarelief.org
SUMMARY:Shopping on a Budget
DESCRIPTION:Join us for a free\, interactive class as we discuss… \n\nShopping tips and tricks to help you have a well rounded and nutritious grocery haul without breaking the bank\nWays to pick the nutritious\, tasty\, and more affordable option when comparing labels at the store\nFun challenge to improve your budgeting skills\nAnd more!\n\nAll students will receive a $10 Gift Card for participating!
URL:https://www.icnarelief.org/shifaclinics/event/shopping-on-a-budget-2-20-25/
LOCATION:Shifa Free Clinic\, 668 Marina Drive\, CHARLESTON\, SC\, 29492\, United States
CATEGORIES:Nutrition Class
END:VEVENT
BEGIN:VEVENT
DTSTART;TZID=UTC:20250222T100000
DTEND;TZID=UTC:20250222T120000
DTSTAMP:20260422T201055
CREATED:20250117T135934Z
LAST-MODIFIED:20250117T143121Z
UID:22182-1740218400-1740225600@www.icnarelief.org
SUMMARY:Nutrición y Emociones
DESCRIPTION:Join Shifa and Circulos de Bienstar for our three-part workshop series in SPANISH designed to help you explore the relationship between emotions and eating habits\, with a specific focus on how emotional eating can influence conditions like prediabetes. \nThe workshop will be once a week on Saturday between 10-12PM\, for total of 3 weeks. \nThis series will provide practical tools and resources to improve both mental and physical health.
URL:https://www.icnarelief.org/shifaclinics/event/nutricion-y-emociones-c3-s2/
LOCATION:Shifa Free Clinic\, 668 Marina Drive\, CHARLESTON\, SC\, 29492\, United States
CATEGORIES:Health Class,Nutrition Class
END:VEVENT
END:VCALENDAR