BEGIN:VCALENDAR
VERSION:2.0
PRODID:-//Shifa Clinic - South Carolina - ECPv6.15.18//NONSGML v1.0//EN
CALSCALE:GREGORIAN
METHOD:PUBLISH
X-WR-CALNAME:Shifa Clinic - South Carolina
X-ORIGINAL-URL:https://www.icnarelief.org/shifaclinics
X-WR-CALDESC:Events for Shifa Clinic - South Carolina
REFRESH-INTERVAL;VALUE=DURATION:PT1H
X-Robots-Tag:noindex
X-PUBLISHED-TTL:PT1H
BEGIN:VTIMEZONE
TZID:UTC
BEGIN:STANDARD
TZOFFSETFROM:+0000
TZOFFSETTO:+0000
TZNAME:UTC
DTSTART:20230101T000000
END:STANDARD
END:VTIMEZONE
BEGIN:VTIMEZONE
TZID:America/New_York
BEGIN:DAYLIGHT
TZOFFSETFROM:-0500
TZOFFSETTO:-0400
TZNAME:EDT
DTSTART:20230312T070000
END:DAYLIGHT
BEGIN:STANDARD
TZOFFSETFROM:-0400
TZOFFSETTO:-0500
TZNAME:EST
DTSTART:20231105T060000
END:STANDARD
BEGIN:DAYLIGHT
TZOFFSETFROM:-0500
TZOFFSETTO:-0400
TZNAME:EDT
DTSTART:20240310T070000
END:DAYLIGHT
BEGIN:STANDARD
TZOFFSETFROM:-0400
TZOFFSETTO:-0500
TZNAME:EST
DTSTART:20241103T060000
END:STANDARD
BEGIN:DAYLIGHT
TZOFFSETFROM:-0500
TZOFFSETTO:-0400
TZNAME:EDT
DTSTART:20250309T070000
END:DAYLIGHT
BEGIN:STANDARD
TZOFFSETFROM:-0400
TZOFFSETTO:-0500
TZNAME:EST
DTSTART:20251102T060000
END:STANDARD
END:VTIMEZONE
BEGIN:VEVENT
DTSTART;TZID=UTC:20241206T090000
DTEND;TZID=UTC:20241206T110000
DTSTAMP:20260423T042058
CREATED:20241120T141629Z
LAST-MODIFIED:20241120T141629Z
UID:22039-1733475600-1733482800@www.icnarelief.org
SUMMARY:Flu Vaccine Clinic
DESCRIPTION:Get your FREE Flu Vaccine!\nProtect your health\, protect your loved ones\, and build immunity.\n\nWho:\n\nAnyone! (Insured or Uninsured)\n6 Months and older\n\n\nWhen\n\nEvery Friday 1-3pm\n\n\nWhat to bring\n\nValid ID\n\n\n\nNo walk ins accepted\, please reserve your spot HERE
URL:https://www.icnarelief.org/shifaclinics/event/flu-vaccine-clinic-12-6-24/
LOCATION:Shifa Free Clinic\, 668 Marina Drive\, CHARLESTON\, SC\, 29492\, United States
CATEGORIES:Flu Vaccine Clinic
END:VEVENT
BEGIN:VEVENT
DTSTART;TZID=America/New_York:20241203T090000
DTEND;TZID=America/New_York:20241203T110000
DTSTAMP:20260423T042058
CREATED:20241119T173626Z
LAST-MODIFIED:20241119T211307Z
UID:21946-1733216400-1733223600@www.icnarelief.org
SUMMARY:Management of Maternal Diabetes Class
DESCRIPTION:Maegan Manson\n					 Diabetes Management and Education \n					1st Tuesday of the month 9:00 – 11:00 \n					\n				\n			\n			\n				\n				\n				\n				\n				\n				\n				\n				\n				\n				\n					\n					\n						Topics will Include:\n						\nInformation about Gestational Diabetes\nCoping Methods\nHealthy Eating\nExercise Tips\nHow to Monitor and Reduce Risks\nProblem Solving\n\nHosted by Family Nurse Practitioner and Certified Diabetes Care and Education Specialist Maegan Manson from The Medical University of South Carolina. \n					\n				\n			\n				Learn More
URL:https://www.icnarelief.org/shifaclinics/event/moms-12-3-24/
LOCATION:Shifa Free Clinic\, 668 Marina Drive\, CHARLESTON\, SC\, 29492\, United States
CATEGORIES:Health Class
END:VEVENT
BEGIN:VEVENT
DTSTART;VALUE=DATE:20241128
DTEND;VALUE=DATE:20241130
DTSTAMP:20260423T042058
CREATED:20241127T195319Z
LAST-MODIFIED:20241127T195319Z
UID:22104-1732752000-1732924799@www.icnarelief.org
SUMMARY:Closed
DESCRIPTION:Shifa Clinic will be closed Thursday November 28th and Friday November 29th for Thanksgiving.
URL:https://www.icnarelief.org/shifaclinics/event/closed/
LOCATION:SC
END:VEVENT
END:VCALENDAR