BEGIN:VCALENDAR
VERSION:2.0
PRODID:-//Shifa Clinic - South Carolina - ECPv6.15.18//NONSGML v1.0//EN
CALSCALE:GREGORIAN
METHOD:PUBLISH
X-WR-CALNAME:Shifa Clinic - South Carolina
X-ORIGINAL-URL:https://www.icnarelief.org/shifaclinics
X-WR-CALDESC:Events for Shifa Clinic - South Carolina
REFRESH-INTERVAL;VALUE=DURATION:PT1H
X-Robots-Tag:noindex
X-PUBLISHED-TTL:PT1H
BEGIN:VTIMEZONE
TZID:UTC
BEGIN:STANDARD
TZOFFSETFROM:+0000
TZOFFSETTO:+0000
TZNAME:UTC
DTSTART:20240101T000000
END:STANDARD
END:VTIMEZONE
BEGIN:VEVENT
DTSTART;TZID=UTC:20250610T120000
DTEND;TZID=UTC:20250610T124500
DTSTAMP:20260423T002744
CREATED:20250117T135300Z
LAST-MODIFIED:20250602T142735Z
UID:22178-1749556800-1749559500@www.icnarelief.org
SUMMARY:Maternal Diabetes Nutrition Class
DESCRIPTION:*This Class is now being taught remotely* \nThis class will be focused on nutrition for women during pregnancy. You will learn about nutrition labels and how to prepare foods that will help with blood sugar control. We will use real life examples and help to create a plan that works for you. \n\n\n\n\n\n\n\n\n\n\n\n\n\nHosted by Betsy Johnson\, Registered Dietician and Certified Diabetes Care and Education Specialist. Betsy has been providing diabetes education and nutrition counseling for over 30 years. \n \nThis session meets the 2nd Tuesday of every month.
URL:https://www.icnarelief.org/shifaclinics/event/moms-6-10-25/
LOCATION:Shifa Free Clinic\, 668 Marina Drive\, CHARLESTON\, SC\, 29492\, United States
CATEGORIES:Health Class,Nutrition Class
END:VEVENT
END:VCALENDAR