BEGIN:VCALENDAR
VERSION:2.0
PRODID:-//Shifa Clinic - South Carolina - ECPv6.15.18//NONSGML v1.0//EN
CALSCALE:GREGORIAN
METHOD:PUBLISH
X-WR-CALNAME:Shifa Clinic - South Carolina
X-ORIGINAL-URL:https://www.icnarelief.org/shifaclinics
X-WR-CALDESC:Events for Shifa Clinic - South Carolina
REFRESH-INTERVAL;VALUE=DURATION:PT1H
X-Robots-Tag:noindex
X-PUBLISHED-TTL:PT1H
BEGIN:VTIMEZONE
TZID:UTC
BEGIN:STANDARD
TZOFFSETFROM:+0000
TZOFFSETTO:+0000
TZNAME:UTC
DTSTART:20240101T000000
END:STANDARD
END:VTIMEZONE
BEGIN:VEVENT
DTSTART;TZID=UTC:20250506T120000
DTEND;TZID=UTC:20250506T130000
DTSTAMP:20260423T002744
CREATED:20250117T134602Z
LAST-MODIFIED:20250421T160922Z
UID:22168-1746532800-1746536400@www.icnarelief.org
SUMMARY:Management of Maternal Diabetes Class
DESCRIPTION:*This course is now being taught remotely*\nTopics will Include:\n\n\nInformation about Gestational Diabetes\nCoping Methods\nHealthy Eating\nExercise Tips\nHow to Monitor and Reduce Risks\nProblem Solving\n\nHosted by Family Nurse Practitioner and Certified Diabetes Care and Education Specialist Maegan Manson from The Medical University of South Carolina. \n \nThis session meets the 1st Tuesday of each month.
URL:https://www.icnarelief.org/shifaclinics/event/moms-5-6-25/
LOCATION:Shifa Free Clinic\, 668 Marina Drive\, CHARLESTON\, SC\, 29492\, United States
CATEGORIES:Health Class,Nutrition Class
END:VEVENT
END:VCALENDAR