BEGIN:VCALENDAR
VERSION:2.0
PRODID:-//Shifa Clinic - South Carolina - ECPv6.15.18//NONSGML v1.0//EN
CALSCALE:GREGORIAN
METHOD:PUBLISH
X-ORIGINAL-URL:https://www.icnarelief.org/shifaclinics
X-WR-CALDESC:Events for Shifa Clinic - South Carolina
REFRESH-INTERVAL;VALUE=DURATION:PT1H
X-Robots-Tag:noindex
X-PUBLISHED-TTL:PT1H
BEGIN:VTIMEZONE
TZID:UTC
BEGIN:STANDARD
TZOFFSETFROM:+0000
TZOFFSETTO:+0000
TZNAME:UTC
DTSTART:20240101T000000
END:STANDARD
END:VTIMEZONE
BEGIN:VEVENT
DTSTART;TZID=UTC:20250204T090000
DTEND;TZID=UTC:20250204T110000
DTSTAMP:20260422T214710
CREATED:20241120T144245Z
LAST-MODIFIED:20241202T204512Z
UID:22058-1738659600-1738666800@www.icnarelief.org
SUMMARY:Management of Maternal Diabetes Class
DESCRIPTION:Topics will Include:\n\n\nInformation about Gestational Diabetes\nCoping Methods\nHealthy Eating\nExercise Tips\nHow to Monitor and Reduce Risks\nProblem Solving\n\nHosted by Family Nurse Practitioner and Certified Diabetes Care and Education Specialist Maegan Manson from The Medical University of South Carolina. \n \nThis session meets the 1st Tuesday of each month.
URL:https://www.icnarelief.org/shifaclinics/event/moms-2-4-25/
LOCATION:Shifa Free Clinic\, 668 Marina Drive\, CHARLESTON\, SC\, 29492\, United States
CATEGORIES:Health Class
ATTACH;FMTTYPE=image/png:https://www.icnarelief.org/shifaclinics/wp-content/uploads/sites/2/2024/11/1-4.png
END:VEVENT
END:VCALENDAR