BEGIN:VCALENDAR
VERSION:2.0
PRODID:-//Shifa Clinic - South Carolina - ECPv6.15.18//NONSGML v1.0//EN
CALSCALE:GREGORIAN
METHOD:PUBLISH
X-WR-CALNAME:Shifa Clinic - South Carolina
X-ORIGINAL-URL:https://www.icnarelief.org/shifaclinics
X-WR-CALDESC:Events for Shifa Clinic - South Carolina
REFRESH-INTERVAL;VALUE=DURATION:PT1H
X-Robots-Tag:noindex
X-PUBLISHED-TTL:PT1H
BEGIN:VTIMEZONE
TZID:UTC
BEGIN:STANDARD
TZOFFSETFROM:+0000
TZOFFSETTO:+0000
TZNAME:UTC
DTSTART:20240101T000000
END:STANDARD
END:VTIMEZONE
BEGIN:VEVENT
DTSTART;TZID=UTC:20250111T100000
DTEND;TZID=UTC:20250111T120000
DTSTAMP:20260422T231016
CREATED:20250103T193046Z
LAST-MODIFIED:20250103T193046Z
UID:22146-1736589600-1736596800@www.icnarelief.org
SUMMARY:Nutrición y Emociones
DESCRIPTION:Join Shifa and Circulos de Bienstar for our three-part workshop series in SPANISH designed to help you explore the relationship between emotions and eating habits\, with a specific focus on how emotional eating can influence conditions like prediabetes. \nThe workshop will be once a week on Saturday between 10-12PM\, for total of 3 weeks. \nThis series will provide practical tools and resources to improve both mental and physical health.
URL:https://www.icnarelief.org/shifaclinics/event/nutricion-y-emociones-2/
LOCATION:Shifa Free Clinic\, 668 Marina Drive\, CHARLESTON\, SC\, 29492\, United States
CATEGORIES:Flu Vaccine Clinic,Health Class,Health-Fair,Nutrition Class
END:VEVENT
END:VCALENDAR