BEGIN:VCALENDAR
VERSION:2.0
PRODID:-//Shifa Clinic - South Carolina - ECPv6.15.18//NONSGML v1.0//EN
CALSCALE:GREGORIAN
METHOD:PUBLISH
X-WR-CALNAME:Shifa Clinic - South Carolina
X-ORIGINAL-URL:https://www.icnarelief.org/shifaclinics
X-WR-CALDESC:Events for Shifa Clinic - South Carolina
REFRESH-INTERVAL;VALUE=DURATION:PT1H
X-Robots-Tag:noindex
X-PUBLISHED-TTL:PT1H
BEGIN:VTIMEZONE
TZID:America/New_York
BEGIN:DAYLIGHT
TZOFFSETFROM:-0500
TZOFFSETTO:-0400
TZNAME:EDT
DTSTART:20230312T070000
END:DAYLIGHT
BEGIN:STANDARD
TZOFFSETFROM:-0400
TZOFFSETTO:-0500
TZNAME:EST
DTSTART:20231105T060000
END:STANDARD
BEGIN:DAYLIGHT
TZOFFSETFROM:-0500
TZOFFSETTO:-0400
TZNAME:EDT
DTSTART:20240310T070000
END:DAYLIGHT
BEGIN:STANDARD
TZOFFSETFROM:-0400
TZOFFSETTO:-0500
TZNAME:EST
DTSTART:20241103T060000
END:STANDARD
BEGIN:DAYLIGHT
TZOFFSETFROM:-0500
TZOFFSETTO:-0400
TZNAME:EDT
DTSTART:20250309T070000
END:DAYLIGHT
BEGIN:STANDARD
TZOFFSETFROM:-0400
TZOFFSETTO:-0500
TZNAME:EST
DTSTART:20251102T060000
END:STANDARD
END:VTIMEZONE
BEGIN:VEVENT
DTSTART;TZID=America/New_York:20241210T090000
DTEND;TZID=America/New_York:20241210T230000
DTSTAMP:20260423T002749
CREATED:20241119T211347Z
LAST-MODIFIED:20241119T211350Z
UID:22017-1733821200-1733871600@www.icnarelief.org
SUMMARY:Maternal Diabetes Nutrition Class
DESCRIPTION:Betsy Johnson\n					Gestational Diabetes Nutrition \n					2nd Tuesday of the month 9:00 – 11:00 \n					\n				\n			\n			\n				\n				\n				\n				\n				\n				\n				\n				\n				\n				\n					\n					\n						\n						This class will be focused on nutrition for women during pregnancy. You will learn about nutrition labels and how to prepare foods that will help with blood sugar control. We will use real life examples and help to create a plan that works for you. \nHosted by Betsy Johnson\, Registered Dietician and Certified Diabetes Care and Education Specialist. Betsy has been providing diabetes education and nutrition counseling for over 30 years. \n					\n				\n			\n				Learn More
URL:https://www.icnarelief.org/shifaclinics/event/maternal-diabetes-nutrition-class/
LOCATION:Shifa Free Clinic\, 668 Marina Drive\, CHARLESTON\, SC\, 29492\, United States
CATEGORIES:Health Class
END:VEVENT
END:VCALENDAR